BEGIN:VCALENDAR
VERSION:2.0
PRODID:-//NERSI - ECPv6.15.20//NONSGML v1.0//EN
CALSCALE:GREGORIAN
METHOD:PUBLISH
X-WR-CALNAME:NERSI
X-ORIGINAL-URL:https://nersi.eci.ufmg.br
X-WR-CALDESC:Eventos para NERSI
REFRESH-INTERVAL;VALUE=DURATION:PT1H
X-Robots-Tag:noindex
X-PUBLISHED-TTL:PT1H
BEGIN:VTIMEZONE
TZID:America/Sao_Paulo
BEGIN:STANDARD
TZOFFSETFROM:-0300
TZOFFSETTO:-0300
TZNAME:-03
DTSTART:20210101T000000
END:STANDARD
END:VTIMEZONE
BEGIN:VEVENT
DTSTART;TZID=America/Sao_Paulo:20221214T080000
DTEND;TZID=America/Sao_Paulo:20221214T120000
DTSTAMP:20260422T035446
CREATED:20221213T191151Z
LAST-MODIFIED:20221213T191151Z
UID:2670-1671004800-1671019200@nersi.eci.ufmg.br
SUMMARY:Conservação de acervos bibliográficos
DESCRIPTION:O Instituto Cultural Amilcar Martins (ICAM) juntamente com a Prefeitura de Belo Horizonte @prefeiturabh\, por meio da Secretaria Municipal de Cultura\, abre inscrições para o Workshop: Conservação de acervos bibliográficos. O Workshop será ofertado gratuitamente e acontecerá em formato presencial no Instituto Cultural Amilcar Martins (Rua Ceará\, 2037 – Funcionários) e será ministrado por Diná Marques Pereira @dina._.librarian. As inscrições poderão ser feitas através do site do ICAM: www.icam.org.br Vagas limitadas! Garanta sua reserva! \n  \nTurma 1: 29 e 30 de novembro de 08h às 12h com duração de 4 horas /aula \nTurma 1: 06 e 07 de dezembro de 08h às 12h com duração de 4 horas /aula \nTurma 1: 13 e 14 de dezembro de 08h às 12h com duração de 4 horas /aula
URL:https://nersi.eci.ufmg.br/event/conservacao-de-acervos-bibliograficos/
LOCATION:Instituto Cultural Amilcar Martins\, Rua Ceará\, 2037\, Belo Horizonte\, Minas Gerais\, Brasil
ATTACH;FMTTYPE=image/jpeg:https://nersi.eci.ufmg.br/wp-content/uploads/2022/12/315192149_5604312679676167_6451322071104225680_n.jpg
END:VEVENT
END:VCALENDAR