BEGIN:VCALENDAR
VERSION:2.0
PRODID:-//NERSI - ECPv6.15.20//NONSGML v1.0//EN
CALSCALE:GREGORIAN
METHOD:PUBLISH
X-WR-CALNAME:NERSI
X-ORIGINAL-URL:https://nersi.eci.ufmg.br
X-WR-CALDESC:Eventos para NERSI
REFRESH-INTERVAL;VALUE=DURATION:PT1H
X-Robots-Tag:noindex
X-PUBLISHED-TTL:PT1H
BEGIN:VTIMEZONE
TZID:America/Sao_Paulo
BEGIN:STANDARD
TZOFFSETFROM:-0300
TZOFFSETTO:-0300
TZNAME:-03
DTSTART:20220101T000000
END:STANDARD
END:VTIMEZONE
BEGIN:VEVENT
DTSTART;TZID=America/Sao_Paulo:20230619T190000
DTEND;TZID=America/Sao_Paulo:20230619T200000
DTSTAMP:20260420T182541
CREATED:20230608T170010Z
LAST-MODIFIED:20230608T171602Z
UID:4077-1687201200-1687204800@nersi.eci.ufmg.br
SUMMARY:Oficina Laletec para graduação
DESCRIPTION:O Laboratório de Letramento Técnico-Científico (LALETEC) convida a Profa. Dra. Ana Paula Meneses Alves (ECI/UFMG) para ministrar a oficina “Como fazer uma pesquisa científica em fontes confiáveis”. \nO encontro da pesquisadora com alunos da graduação será realizado no dia 19 de junho\, a partir das 19h no canal do YouTube do Laletec.
URL:https://nersi.eci.ufmg.br/event/oficina-laletec-para-graduacao/
ATTACH;FMTTYPE=image/jpeg:https://nersi.eci.ufmg.br/wp-content/uploads/2023/06/25c7def5-b500-4704-9ce2-1ab0776a6185.jpeg
END:VEVENT
END:VCALENDAR