BEGIN:VCALENDAR
VERSION:2.0
PRODID:-//NERSI - ECPv6.15.20//NONSGML v1.0//EN
CALSCALE:GREGORIAN
METHOD:PUBLISH
X-WR-CALNAME:NERSI
X-ORIGINAL-URL:https://nersi.eci.ufmg.br
X-WR-CALDESC:Eventos para NERSI
REFRESH-INTERVAL;VALUE=DURATION:PT1H
X-Robots-Tag:noindex
X-PUBLISHED-TTL:PT1H
BEGIN:VTIMEZONE
TZID:America/Sao_Paulo
BEGIN:STANDARD
TZOFFSETFROM:-0300
TZOFFSETTO:-0300
TZNAME:-03
DTSTART:20220101T000000
END:STANDARD
END:VTIMEZONE
BEGIN:VEVENT
DTSTART;TZID=America/Sao_Paulo:20231002T183000
DTEND;TZID=America/Sao_Paulo:20231003T210000
DTSTAMP:20260421T010043
CREATED:20230918T234232Z
LAST-MODIFIED:20230918T234500Z
UID:4301-1696271400-1696366800@nersi.eci.ufmg.br
SUMMARY:Integra 31- 2ª Edição
DESCRIPTION:Acontece nos dia 02 e 03 de outubro de 2023 o Integra 31. \nPara mais informações e cadastro consulte o site do evento: https://www.even3.com.br/integra31segundaedicaomestradoedoutoradofumec/ \n  \nO evento acontecerá presencialmente na Universidade FUMEC e terá transmissão online. \n\nProgramação \nDia 02 de Outubro Presencial (Auditório Phoenix*). Vagas limitadas. \n* Campus Cruzeiro: Rua Cobre\, 200 Bairro Cruzeiro CEP: 30.310-190 Belo Horizonte / MG \n\nDia 03 de Outubro Remoto via meet. Inscrição na plataforma even3.
URL:https://nersi.eci.ufmg.br/event/integra-31-2a-edicao/
LOCATION:Universidade FUMEC\, Rua Cobre\, 200\, Cruzeiro\, Belo Horizonte\, Minas Gerais\, 30.310-190\, Brasil
ATTACH;FMTTYPE=image/jpeg:https://nersi.eci.ufmg.br/wp-content/uploads/2023/09/5fda2eae-591a-4eca-9e44-dbde179020c9.jpeg
END:VEVENT
END:VCALENDAR